BEGIN:VCALENDAR
VERSION:2.0
PRODID:TypiCMS
BEGIN:VEVENT
UID:69e9f2770c6ec
DTSTART;VALUE=DATE:20210414
SEQUENCE:0
TRANSP:OPAQUE
DTEND;VALUE=DATE:20210415
URL:https://beopen-project.eu/events/workshop-impact-assessment-on-open-sci
 ence-in-transport-research
SUMMARY:Workshop \"Impact assessment on Open Science in Transport Research\
 " (Internal)
CLASS:PUBLIC
X-MICROSOFT-CDO-ALLDAYEVENT:TRUE
DTSTAMP:20260423T102039Z
END:VEVENT
END:VCALENDAR