BEGIN:VCALENDAR
VERSION:2.0
PRODID:TypiCMS
BEGIN:VEVENT
UID:69e9e5f45a166
DTSTART;VALUE=DATE:20210128
SEQUENCE:0
TRANSP:OPAQUE
DTEND;VALUE=DATE:20210129
URL:https://beopen-project.eu/events/topos-observatory-and-forum-webinar
SUMMARY:2nd TOPOS Observatory and Forum Webinar (Internal)
CLASS:PUBLIC
X-MICROSOFT-CDO-ALLDAYEVENT:TRUE
DTSTAMP:20260423T092716Z
END:VEVENT
END:VCALENDAR