BEGIN:VCALENDAR
VERSION:2.0
PRODID:TypiCMS
BEGIN:VEVENT
UID:69e9e8870ae13
DTSTART;VALUE=DATE:20221117
SEQUENCE:0
TRANSP:OPAQUE
DTEND;VALUE=DATE:20221118
URL:https://beopen-project.eu/events/strategic-session-4-2-open-science-in-
 transport-research-around-the-world
LOCATION:Lisbon\, Portugal
SUMMARY:TRA 2022 Strategic Session: Open Science in Transport Research Arou
 nd the World
CLASS:PUBLIC
X-MICROSOFT-CDO-ALLDAYEVENT:TRUE
DTSTAMP:20260423T093815Z
END:VEVENT
END:VCALENDAR