BEGIN:VCALENDAR
VERSION:2.0
PRODID:TypiCMS
BEGIN:VEVENT
UID:69ed912fc4fb9
DTSTART;VALUE=DATE:20210121
SEQUENCE:0
TRANSP:OPAQUE
DTEND;VALUE=DATE:20210122
URL:https://beopen-project.eu/events/second-be-open-event
LOCATION:Online
SUMMARY:Second BE OPEN event
CLASS:PUBLIC
X-MICROSOFT-CDO-ALLDAYEVENT:TRUE
DTSTAMP:20260426T041439Z
END:VEVENT
END:VCALENDAR