BEGIN:VCALENDAR
VERSION:2.0
PRODID:TypiCMS
BEGIN:VEVENT
UID:69e818c663c84
DTSTART;VALUE=DATE:20191011
SEQUENCE:0
TRANSP:OPAQUE
DTEND;VALUE=DATE:20191012
URL:https://beopen-project.eu/events/open-science-session
LOCATION:Hibernia Centre Conference Room\, Dublin Castle\, Dublin\, Ireland
SUMMARY:First BE OPEN event - Open Science in Transport at ETC2019
CLASS:PUBLIC
X-MICROSOFT-CDO-ALLDAYEVENT:TRUE
DTSTAMP:20260422T003934Z
END:VEVENT
END:VCALENDAR