BEGIN:VCALENDAR
VERSION:2.0
PRODID:TypiCMS
BEGIN:VEVENT
UID:69e9e7a2543f4
DTSTART;VALUE=DATE:20191121
SEQUENCE:0
TRANSP:OPAQUE
DTEND;VALUE=DATE:20191122
URL:https://beopen-project.eu/events/open-science-seminar-2019-belgian-open
 -science-eosc-initiatives
SUMMARY:BE OPEN at the Open Science Seminar 2019 ‘Belgian Open Science : 
 EOSC Initiatives’
CLASS:PUBLIC
X-MICROSOFT-CDO-ALLDAYEVENT:TRUE
DTSTAMP:20260423T093426Z
END:VEVENT
END:VCALENDAR