BEGIN:VCALENDAR
VERSION:2.0
PRODID:TypiCMS
BEGIN:VEVENT
UID:69e555b9c426d
DTSTART;VALUE=DATE:20200430
SEQUENCE:0
TRANSP:OPAQUE
DTEND;VALUE=DATE:20200501
URL:https://beopen-project.eu/events/open-science-in-transport-focus-sessio
 n
LOCATION:Messukeskus Helsinki (Expo and Convention Centre)\, Helsinki\, Fin
 land
SUMMARY:Second BE OPEN Event - POSTPONED
CLASS:PUBLIC
X-MICROSOFT-CDO-ALLDAYEVENT:TRUE
DTSTAMP:20260419T222249Z
END:VEVENT
END:VCALENDAR