BEGIN:VCALENDAR
VERSION:2.0
PRODID:TypiCMS
BEGIN:VEVENT
UID:69e9f1ccb9f68
DTSTART;VALUE=DATE:20220127
SEQUENCE:0
TRANSP:OPAQUE
DTEND;VALUE=DATE:20220128
URL:https://beopen-project.eu/events/horizon-results-booster-webinar-be-ope
 n-project-portfolio-dissemination-and-exploitation-strategy
SUMMARY:Horizon Results Booster Webinar – BE OPEN Project - Portfolio Dis
 semination & Exploitation Strategy
CLASS:PUBLIC
X-MICROSOFT-CDO-ALLDAYEVENT:TRUE
DTSTAMP:20260423T101748Z
END:VEVENT
END:VCALENDAR