BEGIN:VCALENDAR
VERSION:2.0
PRODID:TypiCMS
BEGIN:VEVENT
UID:69e75eb4e673b
DTSTART;VALUE=DATE:20210628
SEQUENCE:0
TRANSP:OPAQUE
DTEND;VALUE=DATE:20210629
URL:https://beopen-project.eu/events/gdansk-university-of-technology-librar
 y-webinar-be-open-project-outcomes-and-topos
SUMMARY:Gdańsk University of Technology Library webinar \"BE OPEN project 
 outcomes and TOPOS\"
CLASS:PUBLIC
X-MICROSOFT-CDO-ALLDAYEVENT:TRUE
DTSTAMP:20260421T112540Z
END:VEVENT
END:VCALENDAR