BEGIN:VCALENDAR
VERSION:2.0
PRODID:TypiCMS
BEGIN:VEVENT
UID:69e9ef054e62b
DTSTART;VALUE=DATE:20210920
SEQUENCE:0
TRANSP:OPAQUE
DTEND;VALUE=DATE:20210921
URL:https://beopen-project.eu/events/channeling-open-science-for-a-sustaina
 ble-management-of-the-ocean-thematic-workshop
LOCATION:Online
SUMMARY:Channeling Open Science for a sustainable management of the ocean (
 thematic workshop)
CLASS:PUBLIC
X-MICROSOFT-CDO-ALLDAYEVENT:TRUE
DTSTAMP:20260423T100557Z
END:VEVENT
END:VCALENDAR