BEGIN:VCALENDAR
VERSION:2.0
PRODID:TypiCMS
BEGIN:VEVENT
UID:69ea670a9b03c
DTSTART;VALUE=DATE:20190909
SEQUENCE:0
TRANSP:OPAQUE
DTEND;VALUE=DATE:20190911
URL:https://beopen-project.eu/events/building-eosc-through-the-h2020-projec
 ts-current-status-and-future-directions
LOCATION:Rue de la Loi 170\, 1000 Brussels
SUMMARY:BE OPEN at \"Building EOSC through the H2020 projects – current s
 tatus and future directions\" workshop
CLASS:PUBLIC
X-MICROSOFT-CDO-ALLDAYEVENT:TRUE
DTSTAMP:20260423T183802Z
END:VEVENT
END:VCALENDAR