BEGIN:VCALENDAR
VERSION:2.0
PRODID:TypiCMS
BEGIN:VEVENT
UID:69e9e4dc68130
DTSTART;VALUE=DATE:20201116
SEQUENCE:0
TRANSP:OPAQUE
DTEND;VALUE=DATE:20201120
URL:https://beopen-project.eu/events/beopen-at-eosc-projects-expo
LOCATION:Online
SUMMARY:BE OPEN at EOSC Projects EXPO
CLASS:PUBLIC
X-MICROSOFT-CDO-ALLDAYEVENT:TRUE
DTSTAMP:20260423T092236Z
END:VEVENT
END:VCALENDAR