BEGIN:VCALENDAR
VERSION:2.0
PRODID:TypiCMS
BEGIN:VEVENT
UID:69e9e5feec946
DTSTART;VALUE=DATE:20200204
SEQUENCE:0
TRANSP:OPAQUE
DTEND;VALUE=DATE:20200206
URL:https://beopen-project.eu/events/be-open-stand-at-mobilitet-2020
LOCATION:Oslo\, Norway
SUMMARY:BE OPEN stand at MOBILITET 2020
CLASS:PUBLIC
X-MICROSOFT-CDO-ALLDAYEVENT:TRUE
DTSTAMP:20260423T092726Z
END:VEVENT
END:VCALENDAR