BEGIN:VCALENDAR
VERSION:2.0
PRODID:TypiCMS
BEGIN:VEVENT
UID:69ec9e64c50dc
DTSTART;VALUE=DATE:20190916
SEQUENCE:0
TRANSP:OPAQUE
DTEND;VALUE=DATE:20190917
URL:https://beopen-project.eu/events/be-open-poster-os-fair-2019-september-
 16-2019
LOCATION:Alfandega Porto Congress Centre\, Rua Nova da Alfândega\, Porto\,
  Portugal
SUMMARY:BE OPEN poster at the OS FAIR 2019
CLASS:PUBLIC
X-MICROSOFT-CDO-ALLDAYEVENT:TRUE
DTSTAMP:20260425T105844Z
END:VEVENT
END:VCALENDAR