BEGIN:VCALENDAR
VERSION:2.0
PRODID:TypiCMS
BEGIN:VEVENT
UID:69eabdd3d5c9e
DTSTART;VALUE=DATE:20190214
SEQUENCE:0
TRANSP:OPAQUE
DTEND;VALUE=DATE:20190215
URL:https://beopen-project.eu/events/be-open-kick-off-meeting
LOCATION:Rue du Trone 98\, Brussels\, Belgium
SUMMARY:BE OPEN Kick-off meeting
CLASS:PUBLIC
X-MICROSOFT-CDO-ALLDAYEVENT:TRUE
DTSTAMP:20260424T004819Z
END:VEVENT
END:VCALENDAR