BEGIN:VCALENDAR
VERSION:2.0
PRODID:TypiCMS
BEGIN:VEVENT
UID:69e9e6f5e9091
DTSTART;VALUE=DATE:20220329
SEQUENCE:0
TRANSP:OPAQUE
DTEND;VALUE=DATE:20220331
URL:https://beopen-project.eu/events/be-open-at-the-european-conference-h20
 20-rtr-2021
LOCATION:BluePoint Brussels – Bd Reyers\, 80\, 1030 Brussels
SUMMARY:BE OPEN at the European Conference H2020 RTR 2021
CLASS:PUBLIC
X-MICROSOFT-CDO-ALLDAYEVENT:TRUE
DTSTAMP:20260423T093133Z
END:VEVENT
END:VCALENDAR