BEGIN:VCALENDAR
VERSION:2.0
PRODID:TypiCMS
BEGIN:VEVENT
UID:69e9cc6075ee7
DTSTART;VALUE=DATE:20200225
SEQUENCE:0
TRANSP:OPAQUE
DTEND;VALUE=DATE:20200228
URL:https://beopen-project.eu/events/be-open-at-rda-germany-conference-2020
LOCATION:Potsdam\, Germany
SUMMARY:BE OPEN at RDA Germany conference 2020
CLASS:PUBLIC
X-MICROSOFT-CDO-ALLDAYEVENT:TRUE
DTSTAMP:20260423T073808Z
END:VEVENT
END:VCALENDAR