BEGIN:VCALENDAR
VERSION:2.0
PRODID:TypiCMS
BEGIN:VEVENT
UID:69e9e4f18f2c9
DTSTART;VALUE=DATE:20211202
SEQUENCE:0
TRANSP:OPAQUE
DTEND;VALUE=DATE:20211203
URL:https://beopen-project.eu/events/be-open-at-5th-pomeranian-open-science
 -conference
LOCATION:Warsaw\, Poland
SUMMARY:BE OPEN at 5th Pomeranian Open Science Conference
CLASS:PUBLIC
X-MICROSOFT-CDO-ALLDAYEVENT:TRUE
DTSTAMP:20260423T092257Z
END:VEVENT
END:VCALENDAR