BEGIN:VCALENDAR
VERSION:2.0
PRODID:TypiCMS
BEGIN:VEVENT
UID:69e9e7c26b8f0
DTSTART;VALUE=DATE:20210316
SEQUENCE:0
TRANSP:OPAQUE
DTEND;VALUE=DATE:20210320
URL:https://beopen-project.eu/events/be-open-at-1st-endorse-conference
SUMMARY:BE OPEN at 1st ENDORSE conference
CLASS:PUBLIC
X-MICROSOFT-CDO-ALLDAYEVENT:TRUE
DTSTAMP:20260423T093458Z
END:VEVENT
END:VCALENDAR