BEGIN:VCALENDAR
VERSION:2.0
PRODID:TypiCMS
BEGIN:VEVENT
UID:69ea64049b878
DTSTART;VALUE=DATE:20201123
SEQUENCE:0
TRANSP:OPAQUE
DTEND;VALUE=DATE:20201124
URL:https://beopen-project.eu/events/be-open-advisory-board-introductory-me
 eting
SUMMARY:BE OPEN Advisory Board First meeting
CLASS:PUBLIC
X-MICROSOFT-CDO-ALLDAYEVENT:TRUE
DTSTAMP:20260423T182508Z
END:VEVENT
END:VCALENDAR