BEGIN:VCALENDAR
VERSION:2.0
PRODID:TypiCMS
BEGIN:VEVENT
UID:69e9e3e94719c
DTSTART;VALUE=DATE:20200217
SEQUENCE:0
TRANSP:OPAQUE
DTEND;VALUE=DATE:20200219
URL:https://beopen-project.eu/events/be-open-2nd-project-meeting
SUMMARY:BE OPEN 2nd Project meeting
CLASS:PUBLIC
X-MICROSOFT-CDO-ALLDAYEVENT:TRUE
DTSTAMP:20260423T091833Z
END:VEVENT
END:VCALENDAR