BEGIN:VCALENDAR
VERSION:2.0
PRODID:TypiCMS
BEGIN:VEVENT
UID:69e6a0940514e
DTSTART;VALUE=DATE:20190917
SEQUENCE:0
TRANSP:OPAQUE
DTEND;VALUE=DATE:20190918
URL:https://beopen-project.eu/events/be-open-1st-event-tbc
LOCATION:Alfandega Porto Congress Centre\, Rua Nova da Alfândega\, Porto\,
  Portugal
SUMMARY:BE OPEN Steering Committee meeting
CLASS:PUBLIC
X-MICROSOFT-CDO-ALLDAYEVENT:TRUE
DTSTAMP:20260420T215428Z
END:VEVENT
END:VCALENDAR