BEGIN:VCALENDAR
VERSION:2.0
PRODID:TypiCMS
BEGIN:VEVENT
UID:69e9e43756459
DTSTART;VALUE=DATE:20210121
SEQUENCE:0
TRANSP:OPAQUE
DTEND;VALUE=DATE:20210122
URL:https://beopen-project.eu/events/1st-topos-observatory-and-forum-webina
 r
SUMMARY:1st TOPOS Observatory and Forum Webinar (Internal)
CLASS:PUBLIC
X-MICROSOFT-CDO-ALLDAYEVENT:TRUE
DTSTAMP:20260423T091951Z
END:VEVENT
END:VCALENDAR